Workbook

Sheet Börja här
A1: Arbetsbok för förstudie
A3: Fyll i de gula cellerna. Allt annat räknas ut åt dig.
A5: 1. Startkostnader: det du betalar en gång innan du öppnar.
A6: 2. Månadskostnader: det du betalar varje månad, med eller utan försäljning.
A7: 3. Intäkter: ditt pris, din kostnad per försäljning och din försäljning, i ett lågt, ett mellersta och ett högt fall.
A8: 4. Prognos och Nollpunkt: läs av resultatet, och ändra siffrorna för att se vad som påverkar det.
A10: Valuta | B10: SAR
A12: Varje siffra är en uppskattning tills du ersätter den med en riktig offert eller en riktig försäljning. Den här arbetsboken är ingen certifierad förstudie.
A13: En förstudie som tas fram för din idé, med marknadsresearch och källor: https://www.hatchioai.com/sv/feasibility-study

Sheet Startkostnader
A1: Startkostnader
A3: Post | B3: ="Belopp ("&'Börja här'!$B$10&")" | C3: Källa eller offert
A4: Hyresdeposition och förskottshyra
A5: Inredning och renovering
A6: Utrustning och möbler
A7: Licenser, registrering och tillstånd
A8: Startlager och förbrukningsmaterial
A9: Webbplats, varumärke och lanseringsmarknadsföring
A10: Buffert för oförutsett (cirka 10 %)
A11: Egen rad
A12: Egen rad
A13: Egen rad
A14: Summa | B14: =SUM(B4:B13)

Sheet Månadskostnader
A1: Månadskostnader
A3: Post | B3: ="Belopp ("&'Börja här'!$B$10&")" | C3: Källa eller offert
A4: Hyra
A5: Löner
A6: Din egen lön
A7: El, vatten och internet
A8: Programvara och abonnemang
A9: Marknadsföring
A10: Försäkring
A11: Redovisning och bankavgifter
A12: Övrigt
A13: Egen rad
A14: Egen rad
A15: Egen rad
A16: Summa | B16: =SUM(B4:B15)

Sheet Intäkter
A1: Intäkter
A3: Antagande | B3: Lågt | C3: Mellersta | D3: Högt
A4: Genomsnittligt pris per försäljning
A5: Kostnad per försäljning (material, leverans, betalningsavgifter)
A6: Försäljning i månad 1
A7: Försäljningstillväxt per månad (%, skriv 5 för 5 %)
A8: Startkassa (ditt kapital)
A9: Marginal per försäljning | B9: =B4-B5 | C9: =C4-C5 | D9: =D4-D5

Sheet Prognos
A1: Prognos
A3: Fall | B3: Mellersta | C3: Välj Lågt, Mellersta eller Högt i den gula cellen
A5: Använda siffror
A6: Genomsnittligt pris per försäljning | B6: =IFERROR(INDEX('Intäkter'!$B$4:$D$4,MATCH($B$3,'Intäkter'!$B$3:$D$3,0)),0)
A7: Kostnad per försäljning (material, leverans, betalningsavgifter) | B7: =IFERROR(INDEX('Intäkter'!$B$5:$D$5,MATCH($B$3,'Intäkter'!$B$3:$D$3,0)),0)
A8: Försäljning i månad 1 | B8: =IFERROR(INDEX('Intäkter'!$B$6:$D$6,MATCH($B$3,'Intäkter'!$B$3:$D$3,0)),0)
A9: Försäljningstillväxt per månad (%, skriv 5 för 5 %) | B9: =IFERROR(INDEX('Intäkter'!$B$7:$D$7,MATCH($B$3,'Intäkter'!$B$3:$D$3,0)),0)
A10: Startkassa (ditt kapital) | B10: =IFERROR(INDEX('Intäkter'!$B$8:$D$8,MATCH($B$3,'Intäkter'!$B$3:$D$3,0)),0)
A11: Månadskostnader | B11: =IFERROR('Månadskostnader'!$B$16,0)
A12: Startkostnader | B12: =IFERROR('Startkostnader'!$B$14,0)
A14: Månad | B14: Försäljning | C14: Intäkter | D14: Försäljningskostnad | E14: Månadskostnader | F14: Vinst eller förlust | G14: Kassa vid månadens slut
A15: 1 | B15: =$B$8 | C15: =B15*$B$6 | D15: =B15*$B$7 | E15: =$B$11 | F15: =C15-D15-E15 | G15: =$B$10-$B$12+F15 | H15: =IF(F15>0,A15,"")
A16: 2 | B16: =B15*(1+$B$9/100) | C16: =B16*$B$6 | D16: =B16*$B$7 | E16: =$B$11 | F16: =C16-D16-E16 | G16: =G15+F16 | H16: =IF(F16>0,A16,"")
A17: 3 | B17: =B16*(1+$B$9/100) | C17: =B17*$B$6 | D17: =B17*$B$7 | E17: =$B$11 | F17: =C17-D17-E17 | G17: =G16+F17 | H17: =IF(F17>0,A17,"")
A18: 4 | B18: =B17*(1+$B$9/100) | C18: =B18*$B$6 | D18: =B18*$B$7 | E18: =$B$11 | F18: =C18-D18-E18 | G18: =G17+F18 | H18: =IF(F18>0,A18,"")
A19: 5 | B19: =B18*(1+$B$9/100) | C19: =B19*$B$6 | D19: =B19*$B$7 | E19: =$B$11 | F19: =C19-D19-E19 | G19: =G18+F19 | H19: =IF(F19>0,A19,"")
A20: 6 | B20: =B19*(1+$B$9/100) | C20: =B20*$B$6 | D20: =B20*$B$7 | E20: =$B$11 | F20: =C20-D20-E20 | G20: =G19+F20 | H20: =IF(F20>0,A20,"")
A21: 7 | B21: =B20*(1+$B$9/100) | C21: =B21*$B$6 | D21: =B21*$B$7 | E21: =$B$11 | F21: =C21-D21-E21 | G21: =G20+F21 | H21: =IF(F21>0,A21,"")
A22: 8 | B22: =B21*(1+$B$9/100) | C22: =B22*$B$6 | D22: =B22*$B$7 | E22: =$B$11 | F22: =C22-D22-E22 | G22: =G21+F22 | H22: =IF(F22>0,A22,"")
A23: 9 | B23: =B22*(1+$B$9/100) | C23: =B23*$B$6 | D23: =B23*$B$7 | E23: =$B$11 | F23: =C23-D23-E23 | G23: =G22+F23 | H23: =IF(F23>0,A23,"")
A24: 10 | B24: =B23*(1+$B$9/100) | C24: =B24*$B$6 | D24: =B24*$B$7 | E24: =$B$11 | F24: =C24-D24-E24 | G24: =G23+F24 | H24: =IF(F24>0,A24,"")
A25: 11 | B25: =B24*(1+$B$9/100) | C25: =B25*$B$6 | D25: =B25*$B$7 | E25: =$B$11 | F25: =C25-D25-E25 | G25: =G24+F25 | H25: =IF(F25>0,A25,"")
A26: 12 | B26: =B25*(1+$B$9/100) | C26: =B26*$B$6 | D26: =B26*$B$7 | E26: =$B$11 | F26: =C26-D26-E26 | G26: =G25+F26 | H26: =IF(F26>0,A26,"")
A28: Intäkter under 12 månader | B28: =SUM(C15:C26)
A29: Vinst eller förlust under 12 månader | B29: =SUM(F15:F26)
A30: Lägsta kassasaldo | B30: =MIN(G15:G26)
A31: Första månaden med vinst | B31: =IF(COUNT(H15:H26)=0,"Ingen inom 12 månader",MIN(H15:H26))

Sheet Nollpunkt
A1: Nollpunkt
A3: Fall (från bladet Prognos) | B3: ='Prognos'!$B$3
A4: Månadskostnader | B4: ='Prognos'!$B$11
A5: Marginal per försäljning | B5: ='Prognos'!$B$6-'Prognos'!$B$7
A6: Försäljning som behövs per månad för att nå nollpunkten | B6: =IF(B5<=0,"Priset måste vara högre än kostnaden per försäljning",B4/B5)
A7: Detsamma, per dag (månad på 30 dagar) | B7: =IF(ISNUMBER(B6),B6/30,"")
A8: Intäkter som behövs per månad för att nå nollpunkten | B8: =IF(ISNUMBER(B6),B6*'Prognos'!$B$6,"")
A9: Startkostnader | B9: ='Prognos'!$B$12
A10: Vinst per månad vid försäljningen i månad 1 | B10: ='Prognos'!$B$8*B5-B4
A11: Månader för att betala tillbaka startkostnaderna, vid försäljningen i månad 1 | B11: =IF(B10<=0,"Ingen vinst vid den här försäljningen",B9/B10)
